Workbook

Sheet Database
A1: Name | B1: Value.cmc_rank | C1: price | D1: market_cap | E1: Category
A2: ADA | B2: 10 | C2: 0.44643056 | D2: 1.5922651e+10 | E2: L1
A3: AITECH | B3: 430 | C3: 0.17162631 | D3: 98853861 | E3: IA
A4: ARKM | B4: 124 | C4: 2.5946905 | D4: 5.3087367e+08 | E4: IA
A5: BNB | B5: 4 | C5: 597.09014 | D5: 8.8122628e+10 | E5: L1
A6: BTC | B6: 1 | C6: 62654.335 | D6: 1.2341432e+12 | E6: L1
A7: CAKE | B7: 103 | C7: 2.6129212 | D7: 7.0575579e+08 | E7: DEFI
A8: CGPT | B8: 400 | C8: 0.23311826 | D8: 1.0889502e+08 | E8: IA
A9: DCK | B9: 894 | C9: 0.052998979 | D9: 17989029 | E9: IA
A10: DOGE | B10: 9 | C10: 0.14409145 | D10: 2.0788204e+10 | E10: MEME
A11: ETH | B11: 2 | C11: 2970.567 | D11: 3.5680451e+11 | E11: L1
A12: GFAL | B12: 614 | C12: 0.021862187 | D12: 47581766 | E12: GAMING
A13: JUP | B13: 61 | C13: 1.0606963 | D13: 1.4319401e+09 | E13: DEFI
... A17: UNI | B17: 23 | C17: 7.1240813 | D17: 4.2668281e+09 | E17: DEFI

Sheet Cantidad Invertida
A1: CRIPTOMONEDAS INVERTIDAS | H1: TOTAL
A2: Cryptomonedas | B2: Categoria | C2: Riesgo | D2: MarketCap | E2: Porcentaje | F2: Cantidad ($) | H2: Cryptomonedas | I2: Cantidad Crypto | J2: Precio Medio | K2: Dinero Actual | L2: ROI
A3: SOL | B3: =+VLOOKUP(A3,latest?symbol_ADA_BNB_BTC_CGPT_DCK_DOGE_ETH_SOL_THETA_JUP_ARKM_CAKE_MAVIA_GFAL_U[],5,0) -> L1 | C3: =+IF(D3<200000000,"RIESGO ALTO","RIESGO BAJO") -> RIESGO BAJO | D3: =VLOOKUP(A3,Database!A:E,4,0) -> 6.4956981e+10 | E3: ='Cantidad Invertida'!F3/Balance!$C$3 -> 0.077399078 | F3: =SUMIF('Entradas '!A:A,H3,'Entradas '!D:D) -> 41.296278 | H3: SOL | I3: =SUMIF('Entradas '!A:A,H3,'Entradas '!E:E) -> 0.3046 | J3: =+IF(MATCH(H3,'Entradas '!A:A,0)>0,('Entradas '!C3*'Entradas '!E3+'Entradas '!E12*'Entradas '!C12)/E3,0) -> 1.3042006 | K3: =I3*(VLOOKUP(H3,Database!A:C,3,FALSE)) -> 44.112107 | L3: =-(F3-K3)/F3 -> 0.068186017
A4: UNI | B4: =+VLOOKUP(A4,latest?symbol_ADA_BNB_BTC_CGPT_DCK_DOGE_ETH_SOL_THETA_JUP_ARKM_CAKE_MAVIA_GFAL_U[],5,0) -> DEFI | C4: =+IF(D4<200000000,"RIESGO ALTO","RIESGO BAJO") -> RIESGO BAJO | D4: =VLOOKUP(A4,Database!A:E,4,0) -> 4.2668281e+09 | E4: ='Cantidad Invertida'!F4/Balance!$C$3 -> 0.20443614 | F4: =SUMIF('Entradas '!A:A,H4,'Entradas '!D:D) -> 109.0769 | H4: UNI | I4: =SUMIF('Entradas '!A:A,H4,'Entradas '!E:E) -> 14.847157 | K4: =I4*(VLOOKUP(H4,Database!A:C,3,FALSE)) -> 105.77236 | L4: =-(F4-K4)/F4 -> -0.030295561
A5: CAKE | B5: =+VLOOKUP(A5,latest?symbol_ADA_BNB_BTC_CGPT_DCK_DOGE_ETH_SOL_THETA_JUP_ARKM_CAKE_MAVIA_GFAL_U[],5,0) -> DEFI | C5: =+IF(D5<200000000,"RIESGO ALTO","RIESGO BAJO") -> RIESGO BAJO | D5: =VLOOKUP(A5,Database!A:E,4,0) -> 7.0575579e+08 | E5: ='Cantidad Invertida'!F5/Balance!$C$3 -> 0.18569466 | F5: =SUMIF('Entradas '!A:A,H5,'Entradas '!D:D) -> 99.077384 | H5: CAKE | I5: =SUMIF('Entradas '!A:A,H5,'Entradas '!E:E) -> 36.3315 | J5: =+IF(MATCH(H5,'Entradas '!A:A,0)>0,('Entradas '!C5*'Entradas '!B5+'Entradas '!B14*'Entradas '!C14)/#REF!,0) -> #REF! | K5: =I5*(VLOOKUP(H5,Database!A:C,3,FALSE)) -> 94.931347 | L5: =-(F5-K5)/F5 -> -0.041846455
A6: ARKM | B6: =+VLOOKUP(A6,latest?symbol_ADA_BNB_BTC_CGPT_DCK_DOGE_ETH_SOL_THETA_JUP_ARKM_CAKE_MAVIA_GFAL_U[],5,0) -> IA | C6: =+IF(D6<200000000,"RIESGO ALTO","RIESGO BAJO") -> RIESGO BAJO | D6: =VLOOKUP(A6,Database!A:E,4,0) -> 5.3087367e+08 | E6: ='Cantidad Invertida'!F6/Balance!$C$3 -> 0.12562915 | F6: =SUMIF('Entradas '!A:A,H6,'Entradas '!D:D) -> 67.029436 | H6: ARKM | I6: =SUMIF('Entradas '!A:A,H6,'Entradas '!E:E) -> 38.199947 | J6: =+IF(MATCH(H6,'Entradas '!A:A,0)>0,('Entradas '!C6*'Entradas '!B6+'Entradas '!B15*'Entradas '!C15)/#REF!,0) -> #REF! | K6: =I6*(VLOOKUP(H6,Database!A:C,3,FALSE)) -> 99.117039 | L6: =-(F6-K6)/F6 -> 0.47870914
A7: AITECH | B7: =+VLOOKUP(A7,latest?symbol_ADA_BNB_BTC_CGPT_DCK_DOGE_ETH_SOL_THETA_JUP_ARKM_CAKE_MAVIA_GFAL_U[],5,0) -> IA | C7: =+IF(D7<200000000,"RIESGO ALTO","RIESGO BAJO") -> RIESGO ALTO | D7: =VLOOKUP(A7,Database!A:E,4,0) -> 98853861 | E7: ='Cantidad Invertida'!F7/Balance!$C$3 -> 0.21024135 | F7: =SUMIF('Entradas '!A:A,H7,'Entradas '!D:D) -> 112.17427 | H7: AITECH | I7: =SUMIF('Entradas '!A:A,H7,'Entradas '!E:E) -> 581.65506 | J7: =+IF(MATCH(H7,'Entradas '!A:A,0)>0,('Entradas '!C7*'Entradas '!B7+'Entradas '!B16*'Entradas '!C16)/#REF!,0) -> #REF! | K7: =I7*(VLOOKUP(H7,Database!A:C,3,FALSE)) -> 99.827313 | L7: =-(F7-K7)/F7 -> -0.11006945
A8: CGPT | B8: =+VLOOKUP(A8,latest?symbol_ADA_BNB_BTC_CGPT_DCK_DOGE_ETH_SOL_THETA_JUP_ARKM_CAKE_MAVIA_GFAL_U[],5,0) -> IA | C8: =+IF(D8<200000000,"RIESGO ALTO","RIESGO BAJO") -> RIESGO ALTO | D8: =VLOOKUP(A8,Database!A:E,4,0) -> 1.0889502e+08 | E8: ='Cantidad Invertida'!F8/Balance!$C$3 -> 0.12590776 | F8: =SUMIF('Entradas '!A:A,H8,'Entradas '!D:D) -> 67.178086 | H8: CGPT | I8: =SUMIF('Entradas '!A:A,H8,'Entradas '!E:E) -> 308.44 | J8: =+IF(MATCH(H8,'Entradas '!A:A,0)>0,('Entradas '!C8*'Entradas '!B8+'Entradas '!B17*'Entradas '!C17)/#REF!,0) -> #REF! | K8: =I8*(VLOOKUP(H8,Database!A:C,3,FALSE)) -> 71.902998 | L8: =-(F8-K8)/F8 -> 0.070334119

Sheet Balance
A1: Balances
A2: Fecha Deposito | B2: Cantidad Invertida (€) | C2: Cantidad Invertida (USD) | D2: Cantidad ($) - Comisiones | E2: Cantidad Invertida | F2: % Invertido | G2: Dinero Actual Total | H2: ROI
A3: 45399 | B3: 500 | C3: =B3*VLOOKUP(A3,Conversion!F:G,2) -> 533.55 | D3: =C3-Comisiones!A7 -> 529.30528 | E3: =SUM('Cantidad Invertida'!F:F) -> 495.83236 | F3: =E3/D3 -> 0.93676066 | G3: =SUM('Cantidad Invertida'!K:K) -> 515.66316 | H3: =-(E3-G3)/E3 -> 0.039994968

Sheet Entradas 
A1: Entrada 1
A2: Cryptomonedas | B2: Compra (USDT) | C2: Porcentaje % | D2: Volumen (USDT) | E2: Cantidad Crypto | F2: Fecha
A3: SOL | B3: 147 | C3: =D3/VLOOKUP(A3,'Cantidad Invertida'!A:F,6,FALSE) -> 0.32214768 | D3: =B3*E3 -> 13.3035 | E3: 0.0905 | F3: 45407
A4: UNI | B4: 7.0531 | C4: =D4/VLOOKUP(A4,'Cantidad Invertida'!A:F,6,FALSE) -> 0.24780682 | D4: 27.03 | E4: =D4/B4 -> 3.8323574 | F4: 45399
A5: CAKE | B5: 2.72 | C5: =D5/VLOOKUP(A5,'Cantidad Invertida'!A:F,6,FALSE) -> 0.27281705 | D5: 27.03 | E5: =D5/B5 -> 9.9375 | F5: 45399
A6: ARKM | B6: 1.5387 | C6: =D6/VLOOKUP(A6,'Cantidad Invertida'!A:F,6,FALSE) -> 0.40325269 | D6: =17.5418+9.488 -> 27.0298 | E6: =D6/B6 -> 17.566647 | F6: 45399
A7: AITECH | B7: 0.2075 | C7: =D7/VLOOKUP(A7,'Cantidad Invertida'!A:F,6,FALSE) -> 0.24096434 | D7: 27.03 | E7: =D7/B7 -> 130.26506 | F7: 45399
A8: CGPT | B8: 0.241 | C8: =D8/VLOOKUP(A8,'Cantidad Invertida'!A:F,6,FALSE) -> 0.40240756 | D8: =E8*B8 -> 27.03297 | E8: 112.17 | F8: 45399
A10: Entrada 2
A11: Cryptomonedas | B11: Compra (USDT) | C11: Porcentaje % | D11: Volumen (USDT) | E11: Cantidad Crypto | F11: Fecha
A12: SOL | B12: 134.8 | C12: =D12/VLOOKUP(A12,'Cantidad Invertida'!A:F,6,FALSE) -> 0.48408334 | D12: =B12*E12 -> 19.99084 | E12: 0.1483 | F12: 45411
A13: UNI | B13: 8.046 | C13: =D13/VLOOKUP(A13,'Cantidad Invertida'!A:F,6,FALSE) -> 0.24796891 | D13: 27.04768 | E13: 3.36 | F13: 45399
A14: CAKE | B14: 2.992 | C14: =D14/VLOOKUP(A14,'Cantidad Invertida'!A:F,6,FALSE) -> 0.2729955 | D14: =B14*E14 -> 27.04768 | E14: 9.04 | F14: 45405
A15: ARKM | B15: 1.9604 | C15: =D15/VLOOKUP(A15,'Cantidad Invertida'!A:F,6,FALSE) -> 0.44756166 | D15: =B15*E15 -> 29.999805 | E15: 15.3029 | F15: 45411
A16: AITECH | B16: 0.2352 | C16: =D16/VLOOKUP(A16,'Cantidad Invertida'!A:F,6,FALSE) -> 0.17960653 | D16: =B16*E16 -> 20.147232 | E16: 85.66 | F16: 45399
A17: CGPT | B17: 0.2503 | C17: =D17/VLOOKUP(A17,'Cantidad Invertida'!A:F,6,FALSE) -> 0.2999078 | D17: 20.147232 | E17: 106.23 | F17: 45399
A19: Entrada 3
A20: Cryptomonedas | B20: Compra (USDT) | C20: Porcentaje % | D20: Volumen (USDT) | E20: Cantidad Crypto | F20: Fecha
A21: SOL | B21: 121.61 | C21: =D21/VLOOKUP(A21,'Cantidad Invertida'!A:F,6,FALSE) -> 0.19376899 | D21: =B21*E21 -> 8.001938 | E21: 0.0658 | F21: 45413
A22: UNI | B22: 7.594 | C22: =D22/VLOOKUP(A22,'Cantidad Invertida'!A:F,6,FALSE) -> 0.27502924 | D22: =B22*E22 -> 29.999338 | E22: 3.9504 | F22: 45411
A23: CAKE | B23: 2.674 | C23: =D23/VLOOKUP(A23,'Cantidad Invertida'!A:F,6,FALSE) -> 0.30279234 | D23: =B23*E23 -> 29.999873 | E23: 11.2191 | F23: 45405
A24: ARKM | B24: 1.876 | C24: =D24/VLOOKUP(A24,'Cantidad Invertida'!A:F,6,FALSE) -> 0.14918566 | D24: =B24*E24 -> 9.9998304 | E24: 5.3304 | F24: 45413
A25: AITECH | B25: 0.1884 | C25: =D25/VLOOKUP(A25,'Cantidad Invertida'!A:F,6,FALSE) -> 0.26743148 | D25: =B25*E25 -> 29.998932 | E25: 159.23 | F25: 45411
A26: CGPT | B26: 0.2221 | C26: =D26/VLOOKUP(A26,'Cantidad Invertida'!A:F,6,FALSE) -> 0.29768463 | D26: =B26*E26 -> 19.997884 | E26: 90.04 | F26: 45413
A28: Entrada 4
A29: Cryptomonedas | B29: Compra (USDT) | C29: Porcentaje % | D29: Volumen (USDT) | E29: Cantidad Crypto | F29: Fecha
A30: SOL | C30: =D30/VLOOKUP(A30,'Cantidad Invertida'!A:F,6,FALSE) -> 0 | D30: =B30*E30 -> 0
A31: UNI | B31: 6.7487 | C31: =D31/VLOOKUP(A31,'Cantidad Invertida'!A:F,6,FALSE) -> 0.22919503 | D31: =B31*E31 -> 24.999884 | E31: 3.7044 | F31: 45413
A32: CAKE | B32: 2.445 | C32: =D32/VLOOKUP(A32,'Cantidad Invertida'!A:F,6,FALSE) -> 0.1513951 | D32: =B32*E32 -> 14.99983 | E32: 6.1349
A33: ARKM | C33: =D33/VLOOKUP(A33,'Cantidad Invertida'!A:F,6,FALSE) -> 0 | D33: =B33*E33 -> 0
A34: AITECH | B34: 0.168 | C34: =D34/VLOOKUP(A34,'Cantidad Invertida'!A:F,6,FALSE) -> 0.17828259 | D34: =B34*E34 -> 19.99872 | E34: 119.04 | F34: 45413
A35: CGPT | C35: =D35/VLOOKUP(A35,'Cantidad Invertida'!A:F,6,FALSE) -> 0 | D35: =B35*E35 -> 0
A37: Entrada 5
A38: Cryptomonedas | B38: Compra (USDT) | C38: Porcentaje % | D38: Volumen (USDT) | E38: Cantidad Crypto | F38: Fecha
A39: SOL | C39: =D39/VLOOKUP(A39,'Cantidad Invertida'!A:F,6,FALSE) -> 0 | D39: =B39*E39 -> 0
A40: UNI | C40: =D40/VLOOKUP(A40,'Cantidad Invertida'!A:F,6,FALSE) -> 0 | D40: =B40*E40 -> 0
A41: CAKE | C41: =D41/VLOOKUP(A41,'Cantidad Invertida'!A:F,6,FALSE) -> 0 | D41: =B41*E41 -> 0
A42: ARKM | C42: =D42/VLOOKUP(A42,'Cantidad Invertida'!A:F,6,FALSE) -> 0 | D42: =B42*E42 -> 0
A43: AITECH | B43: 0.1715 | C43: =D43/VLOOKUP(A43,'Cantidad Invertida'!A:F,6,FALSE) -> 0.13371506 | D43: =B43*E43 -> 14.99939 | E43: 87.46 | F43: 45425
A44: CGPT | C44: =D44/VLOOKUP(A44,'Cantidad Invertida'!A:F,6,FALSE) -> 0 | D44: =B44*E44 -> 0

Sheet Comisiones
A1: Comisiones
A2: Tipo | B2: Par | C2: Exchange | D2: Cantidad (€) | E2: Cantidad($) | F2: Fecha
A3: Compra | B3: EUR/MATIC | C3: Coinbase | D3: 3.93 | E3: =D3*VLOOKUP(F3,Conversion!F:G,2) -> 4.201956 | F3: 45410
A4: Envio | B4: MATIC/MATIC | C4: Coinbase/KuCoin | D4: 0.04 | E4: =D4*VLOOKUP(F4,Conversion!F:G,2) -> 0.042768 | F4: 45410
A5: Compras | B5: All | C5: KuCoin | D5: 0 | E5: =D5*VLOOKUP(F5,Conversion!F:G,2) -> 0 | F5: 45370
A6: Total
A7: =SUM(E:E) -> 4.244724

Sheet Conversion
F1: {=_xlfn.STOCKHISTORY("EUR:USD","1-Diciembre-2023",TODAY(),0)} -> Fecha | G1: Cierre | I1: {=_xlfn.STOCKHISTORY("USD:EUR","1-Diciembre-2023",TODAY(),0)} -> Fecha | J1: Cierre
F2: 45261 | G2: 1.0881 | I2: 45261 | J2: 0.9188
F3: 45264 | G3: 1.0836 | I3: 45264 | J3: 0.9228
F4: 45265 | G4: 1.0795 | I4: 45265 | J4: 0.926
F5: 45266 | G5: 1.0762 | I5: 45266 | J5: 0.9289
F6: 45267 | G6: 1.0792 | I6: 45267 | J6: 0.9263
F7: 45268 | G7: 1.0761 | I7: 45268 | J7: 0.9289
F8: 45271 | G8: 1.0761 | I8: 45271 | J8: 0.9288
F9: 45272 | G9: 1.0792 | I9: 45272 | J9: 0.9263
F10: 45273 | G10: 1.0873 | I10: 45273 | J10: 0.9194
F11: 45274 | G11: 1.0991 | I11: 45274 | J11: 0.9095
F12: 45275 | G12: 1.0894 | I12: 45275 | J12: 0.9177
F13: 45278 | G13: 1.0922 | I13: 45278 | J13: 0.9152
... F117: 45422 | G117: 1.0769 | I117: 45422 | J117: 0.9282
